BEGIN:VCALENDAR
VERSION:2.0
PRODID:-//Peach Peel - ECPv5.16.4//NONSGML v1.0//EN
CALSCALE:GREGORIAN
METHOD:PUBLISH
X-ORIGINAL-URL:https://peachpeel.ru
X-WR-CALDESC:Events for Peach Peel
REFRESH-INTERVAL;VALUE=DURATION:PT1H
X-Robots-Tag:noindex
X-PUBLISHED-TTL:PT1H
BEGIN:VTIMEZONE
TZID:Europe/Moscow
BEGIN:STANDARD
TZOFFSETFROM:+0300
TZOFFSETTO:+0300
TZNAME:MSK
DTSTART:20250101T000000
END:STANDARD
END:VTIMEZONE
BEGIN:VEVENT
DTSTART;TZID=Europe/Moscow:20250528T110000
DTEND;TZID=Europe/Moscow:20250528T140000
DTSTAMP:20260425T062916
CREATED:20250424T115413Z
LAST-MODIFIED:20250424T115413Z
UID:2631-1748430000-1748440800@peachpeel.ru
SUMMARY:«Эффект колибри» — мощный anti-age протокол с минимальной реабилитацией
DESCRIPTION:«Эффект колибри» — мощный anti-age протокол с минимальной реабилитацией. Возможности сочетания пилинга Peach Peel и скинбустера Colibriderm Hydro \n  \nПРОГРАММА: \n  \n\nОсновы подбора биоревитализантов и биореструктуризантов под запрос пациента. Тактика работы с осложнения: диагностика\, профилактика\, первая помощь\, лечение отдаленных последствий.\nColibriderm Hydro — глубокое увлажнение и реструктуризация кожи без реабилитации. Преимущества\, техники инъецирования\, показания.\nPeach Peel — идеальные протоколы на лето: безопасность и результат в 1 флаконе. Состав\, ключевые преимущества Peach Peel. Моно- и сочетанные методики\, работа по телу.\nМастер-класс\n\n  \nТРЕНЕР: \nАнна Анисимова \nВрач-косметолог\, сертифицированный тренер компании L’estetik. Член Национального Альянса дерматовенерологов и косметологов. Преподаватель факультета эстетической медицины и косметологии АНО ДПО «Институт КЭМВИ-ДРК» \n  \nРегистрация на семинар в WhatsApp
URL:https://peachpeel.ru/event/effekt-kolibri-moshhnyj-anti-age-protokol-s-minimalnoj-reabilitacziej-8/
LOCATION:Академия L’estetik\, Москва\, Москва
CATEGORIES:семинар
ATTACH;FMTTYPE=image/jpeg:https://peachpeel.ru/wp-content/uploads/2024/07/image-2.jpg
END:VEVENT
END:VCALENDAR